BEGIN:VCALENDAR
VERSION:2.0
PRODID:-//Tukios.com/
BEGIN:VEVENT
UID:9fbbd29f-a919-4e0d-be82-cf172f6f9216@www.donaldsonclarksville.com
DTSTAMP:20260421T193855Z
DTSTART:20260428T170000Z
DTEND:20260428T180000Z
SUMMARY:Graveside Service
DESCRIPTION:
URL:https://www.donaldsonclarksville.com/obituaries/william-cunningham
LOCATION: 13801 Georgia Avenue  Silver Spring MD 20906
GEO:39.084858;-77.07184
END:VEVENT
END:VCALENDAR