BEGIN:VCALENDAR
VERSION:2.0
PRODID:-//Tukios.com/
BEGIN:VEVENT
UID:19cf7b81-b90a-4788-8880-1986b42b91e2@www.donaldsonclarksville.com
DTSTAMP:20260421T193507Z
DTSTART:20260428T143000Z
DTEND:20260428T153000Z
SUMMARY:Funeral Service
DESCRIPTION:
URL:https://www.donaldsonclarksville.com/obituaries/william-cunningham
LOCATION: 12540 Clarksville Pike  Clarksville MD 21029
GEO:39.2019843;-76.9442805
END:VEVENT
END:VCALENDAR