BEGIN:VCALENDAR
VERSION:2.0
PRODID:-//Tukios.com/
BEGIN:VEVENT
UID:456bd2e1-33d3-4d8c-84f3-24f9c5cc75eb@www.donaldsonclarksville.com
DTSTAMP:20260421T193507Z
DTSTART:20260427T220000Z
DTEND:20260428T000000Z
SUMMARY:Visitation
DESCRIPTION:
URL:https://www.donaldsonclarksville.com/obituaries/william-cunningham
LOCATION: 12540 Clarksville Pike  Clarksville MD 21029
GEO:39.2019843;-76.9442805
END:VEVENT
END:VCALENDAR