BEGIN:VCALENDAR
VERSION:2.0
PRODID:-//Tukios.com/
BEGIN:VEVENT
UID:2a510bb6-2352-44de-b0b2-e407dc8c470c@www.donaldsonclarksville.com
DTSTAMP:20260421T193844Z
DTSTART:20260427T180000Z
DTEND:20260427T200000Z
SUMMARY:Visitation
DESCRIPTION:
URL:https://www.donaldsonclarksville.com/obituaries/william-cunningham
LOCATION: 12540 Clarksville Pike  Clarksville MD 21029
GEO:39.2019843;-76.9442805
END:VEVENT
END:VCALENDAR