BEGIN:VCALENDAR
VERSION:2.0
PRODID:-//Tukios.com/
BEGIN:VEVENT
UID:6d8eb4b4-79c4-411e-a90a-bd145677cc7b@www.donaldsonclarksville.com
DTSTAMP:20260425T221310Z
DTSTART:20260501T170000Z
DTEND:20260501T180000Z
SUMMARY:Memorial Mass
DESCRIPTION:
URL:https://www.donaldsonclarksville.com/obituaries/robert-wilson
LOCATION: 3175 Paulskirk Drive  Ellicott City MD 21042
GEO:39.2818549;-76.8310573
END:VEVENT
END:VCALENDAR