BEGIN:VCALENDAR
VERSION:2.0
PRODID:-//Tukios.com/
BEGIN:VEVENT
UID:731c2381-763f-4271-bb10-a6e43cff1755@www.donaldsonclarksville.com
DTSTAMP:20260421T193545Z
DTSTART:20260425T150000Z
DTEND:20260425T170000Z
SUMMARY:Public Viewing
DESCRIPTION:
URL:https://www.donaldsonclarksville.com/obituaries/kennith-becraft
LOCATION:Donaldson Funeral Home of Clarksville, P.A. 12540 Clarksville 
	Pike  Clarksville MD 21029
GEO:39.2019541;-76.9443661
END:VEVENT
END:VCALENDAR