BEGIN:VCALENDAR
VERSION:2.0
PRODID:-//Tukios.com/
BEGIN:VEVENT
UID:8f62597b-d507-49cc-bb9b-d338873dfb16@www.donaldsonclarksville.com
DTSTAMP:20260421T193712Z
DTSTART:20260425T170000Z
DTEND:20260425T180000Z
SUMMARY:Funeral Service
DESCRIPTION:
URL:https://www.donaldsonclarksville.com/obituaries/kennith-becraft
LOCATION:Donaldson Funeral Home of Clarksville, P.A. 12540 Clarksville 
	Pike  Clarksville MD 21029
GEO:39.2019541;-76.9443661
END:VEVENT
END:VCALENDAR