BEGIN:VCALENDAR
VERSION:2.0
PRODID:-//Tukios.com/
BEGIN:VEVENT
UID:507081aa-d4f8-4070-8e65-63a84a19d59a@www.donaldsonclarksville.com
DTSTAMP:20260421T193834Z
DTSTART:20260425T180000Z
DTEND:20260425T183000Z
SUMMARY:Graveside Service
DESCRIPTION:
URL:https://www.donaldsonclarksville.com/obituaries/kennith-becraft
LOCATION: 3001 Spencerville Rd  Burtonsville MD 20866
GEO:39.1097091;-76.9502629
END:VEVENT
END:VCALENDAR