BEGIN:VCALENDAR
VERSION:2.0
PRODID:-//Tukios.com/
BEGIN:VEVENT
UID:194b2a3f-9d37-45fa-a299-ad64b1775ce0@www.donaldsonclarksville.com
DTSTAMP:20260421T084852Z
DTSTART:20260226T160000Z
DTEND:20260226T170000Z
SUMMARY:Funeral Mass
DESCRIPTION:
URL:https://www.donaldsonclarksville.com/obituaries/gregory-lawlor
LOCATION: 1125 St Michaels Rd  Mt Airy MD 21771
GEO:39.3393479;-77.1053628
END:VEVENT
END:VCALENDAR